BEGIN:VCALENDAR
VERSION:2.0
PRODID:-//Mother Teresa Nursing - ECPv6.15.20//NONSGML v1.0//EN
CALSCALE:GREGORIAN
METHOD:PUBLISH
X-WR-CALNAME:Mother Teresa Nursing
X-ORIGINAL-URL:https://motherteresansg.com/en
X-WR-CALDESC:Events for Mother Teresa Nursing
REFRESH-INTERVAL;VALUE=DURATION:PT1H
X-Robots-Tag:noindex
X-PUBLISHED-TTL:PT1H
BEGIN:VTIMEZONE
TZID:Asia/Kolkata
BEGIN:STANDARD
TZOFFSETFROM:+0530
TZOFFSETTO:+0530
TZNAME:IST
DTSTART:20190101T000000
END:STANDARD
END:VTIMEZONE
BEGIN:VEVENT
DTSTART;TZID=Asia/Kolkata:20200911T080000
DTEND;TZID=Asia/Kolkata:20210911T123000
DTSTAMP:20260423T221304
CREATED:20180816T062159Z
LAST-MODIFIED:20230504T033212Z
UID:5982-1599811200-1631363400@motherteresansg.com
SUMMARY:Admissions Open for the Academic Year 2023 - 2024
DESCRIPTION:The Post Basic B Sc Nursing is a two year program. Students are provided classroom and clinical teachings. The University examinations are held annually.
URL:https://motherteresansg.com/en/event/admission-open-2023-2024/
LOCATION:College Campus\, Karnataka\, 560013\, India
END:VEVENT
END:VCALENDAR